BEGIN:VCALENDAR
VERSION:2.0
PRODID:-//ChamberMaster//Event Calendar 2.0//EN
METHOD:PUBLISH
X-PUBLISHED-TTL:P3D
REFRESH-INTERVAL:P3D
CALSCALE:GREGORIAN
BEGIN:VEVENT
DTSTART:20190915T010000Z
DTEND:20190915T050000Z
X-MICROSOFT-CDO-ALLDAYEVENT:FALSE
SUMMARY:On This Harvest Moon
DESCRIPTION:Celebrating the Cowichan Valley's autumn bounty with local farmers\, Averill Creek wines\, comraderie and libation. Help us celebrate this momentous occasion in the vineyard at our cocktail-style party on the terrace\, featuring a variety of paired dishes from Chef Lauren Cartmel of Ma Maison Restaurant. We are firm believers that what grows together\, goes together: Each food station will highlight a different Cowichan Valley farmer\, paired with a wine by Averill Creek.
X-ALT-DESC;FMTTYPE=text/html:Celebrating the Cowichan Valley&rsquo\;s autumn bounty with local farmers\, Averill Creek wines\, comraderie and libation. Help us celebrate this momentous occasion in the vineyard at our cocktail-style party on the terrace\, featuring a variety of paired dishes from Chef Lauren Cartmel of Ma Maison Restaurant. We are firm believers that what grows together\, goes together: Each food station will highlight a different Cowichan Valley farmer\, paired with a wine by Averill Creek.
LOCATION:Averill Creek Vineyard
UID:e.1867.7197
SEQUENCE:3
DTSTAMP:20260419T215444Z
URL:http://duncancc.chambermaster.com/events/details/on-this-harvest-moon-7197
END:VEVENT

END:VCALENDAR
