BEGIN:VCALENDAR
VERSION:2.0
PRODID:-//ChamberMaster//Event Calendar 2.0//EN
METHOD:PUBLISH
X-PUBLISHED-TTL:P3D
REFRESH-INTERVAL:P3D
CALSCALE:GREGORIAN
BEGIN:VEVENT
DTSTART:20231101T180000Z
DTEND:20231101T230000Z
X-MICROSOFT-CDO-ALLDAYEVENT:FALSE
SUMMARY:Cedar: A Celebration
DESCRIPTION:Cedar trees are beloved as the aromatic giants of West coast forests\, playing an integral role in the cultural and artistic life of First Nations. The Cowichan Valley Arts Council (CVAC) is planning an art show celebrating the cedar.
X-ALT-DESC;FMTTYPE=text/html:Cedar trees are beloved as the aromatic giants of West coast forests\, playing an integral role in the cultural and artistic life of First Nations. The Cowichan Valley Arts Council (CVAC) is planning an art show celebrating the cedar.
LOCATION:
UID:e.1867.10520
SEQUENCE:3
DTSTAMP:20260424T195352Z
URL:http://duncancc.chambermaster.com/events/details/cedar-a-celebration-11-01-2023-10520
END:VEVENT

END:VCALENDAR
